BEGIN:VCALENDAR
VERSION:2.0
PRODID:-//NSP PAK - ECPv6.0.10//NONSGML v1.0//EN
CALSCALE:GREGORIAN
METHOD:PUBLISH
X-WR-CALNAME:NSP PAK
X-ORIGINAL-URL:https://pnsp.pk
X-WR-CALDESC:Events for NSP PAK
REFRESH-INTERVAL;VALUE=DURATION:PT1H
X-Robots-Tag:noindex
X-PUBLISHED-TTL:PT1H
BEGIN:VTIMEZONE
TZID:UTC
BEGIN:STANDARD
TZOFFSETFROM:+0000
TZOFFSETTO:+0000
TZNAME:UTC
DTSTART:20230101T000000
END:STANDARD
END:VTIMEZONE
BEGIN:VEVENT
DTSTART;TZID=UTC:20231101T150000
DTEND;TZID=UTC:20231101T170000
DTSTAMP:20260421T110919
CREATED:20231102T063910Z
LAST-MODIFIED:20231102T064925Z
UID:16024-1698850800-1698858000@pnsp.pk
SUMMARY:Cook/Chef holding National Skills Passport registration\, have received orientation
DESCRIPTION:Great to announce that the Employers Federation of Pakistan hosted an orientation session for cooks \nregistered on National Skills Passport platform. These types of initiatives are essential for improving the \nskills and employability of workers in various sectors. 		\n				\n					\n		\n				\n			\n								\n				\n			 The National Skills Passport platform likely aims to \nprovide a standardized and recognized way for employers to verify the skills and qualifications of cooks \nand other professionals in Pakistan. 		\n				\n					\n		\n							\n		\n				\n						\n					\n			\n								\n				\n			Orientation session served several purposes\, including:		\n				\n				\n				\n					\n							\n											\n													\n										Skill Enhancement: NSP can provide cooks with opportunities to enhance their culinary skills\, and stay updated with the latest trends in the industry.\n									\n								\n											\n													\n										After Orientation session second step will be assessment or certification processes\, allowing  cooks to showcase their skills and qualifications to potential employers.\n									\n								\n											\n													\n										Cooks gained valuable information about job opportunities\, market demands\, and industryspecific knowledge during these sessions.\n									\n								\n											\n													\n										 Orientation sessions can also be a great networking opportunity\, allowing cooks to connect with  peers and potential employers\, leading to future job opportunities.\n									\n								\n											\n													\n										Standardization: Given the insight that On National Skills Passport platform\, cooks can have  their qualifications and skills standardized\, making it easier for employers to identify suitable  candidates\n									\n								\n											\n													\n										Q&A Session\, got an opportunity to ask questions and seek clarification on any aspects of the  platform or the orientation.
URL:https://pnsp.pk/event/cook-chef-holding-national-skills-passport-registration-have-received-orientation/
LOCATION:Trade testing Board\, Sindh\, Block C North Nazimabad Karachi\, Karachi\, Pakistan
CATEGORIES:Orientation
ATTACH;FMTTYPE=image/jpeg:https://pnsp.pk/wp-content/uploads/2023/11/cook_event.jpg
ORGANIZER;CN="Employer%20Federation%20of%20Pakistan":MAILTO:Email
END:VEVENT
BEGIN:VEVENT
DTSTART;TZID=UTC:20231025T150000
DTEND;TZID=UTC:20231025T170000
DTSTAMP:20260421T110919
CREATED:20231027T095021Z
LAST-MODIFIED:20231102T063425Z
UID:16008-1698246000-1698253200@pnsp.pk
SUMMARY:Orientation session held for Electricians registered on National Skills Passport
DESCRIPTION:Great to announce that the Employers Federation of Pakistan hosted an orientation session for cooks \nregistered on National Skills Passport platform. These types of initiatives are essential for improving the \nskills and employability of workers in various sectors. 		\n				\n					\n		\n				\n			\n								\n				\n			 The National Skills Passport platform likely aims to \nprovide a standardized and recognized way for employers to verify the skills and qualifications of cooks \nand other professionals in Pakistan. 		\n				\n					\n		\n							\n		\n				\n						\n					\n			\n								\n				\n			Orientation session served several purposes\, including:		\n				\n				\n				\n					\n							\n											\n													\n										Skill Enhancement: NSP can provide cooks with opportunities to enhance their culinary skills\, and stay updated with the latest trends in the industry.\n									\n								\n											\n													\n										After Orientation session second step will be assessment or certification processes\, allowing  cooks to showcase their skills and qualifications to potential employers.\n									\n								\n											\n													\n										Cooks gained valuable information about job opportunities\, market demands\, and industryspecific knowledge during these sessions.\n									\n								\n											\n													\n										 Orientation sessions can also be a great networking opportunity\, allowing cooks to connect with  peers and potential employers\, leading to future job opportunities.\n									\n								\n											\n													\n										Standardization: Given the insight that On National Skills Passport platform\, cooks can have  their qualifications and skills standardized\, making it easier for employers to identify suitable  candidates\n									\n								\n											\n													\n										Q&A Session\, got an opportunity to ask questions and seek clarification on any aspects of the  platform or the orientation.
URL:https://pnsp.pk/event/orientation-session-held-for-electricians-registered-on-national-skills-passport/
LOCATION:Trade testing Board\, Sindh\, Block C North Nazimabad Karachi\, Karachi\, Pakistan
CATEGORIES:Orientation
ATTACH;FMTTYPE=image/jpeg:https://pnsp.pk/wp-content/uploads/2023/10/NSP-Collage-03_1.jpg
ORGANIZER;CN="Employer%20Federation%20of%20Pakistan":MAILTO:Email
END:VEVENT
END:VCALENDAR